BEGIN:VCALENDAR
VERSION:2.0
PRODID:-//National Admission Tests - ECPv6.15.20//NONSGML v1.0//EN
CALSCALE:GREGORIAN
METHOD:PUBLISH
X-ORIGINAL-URL:https://nat.davchennai.org
X-WR-CALDESC:Events for National Admission Tests
REFRESH-INTERVAL;VALUE=DURATION:PT1H
X-Robots-Tag:noindex
X-PUBLISHED-TTL:PT1H
BEGIN:VTIMEZONE
TZID:UTC
BEGIN:STANDARD
TZOFFSETFROM:+0000
TZOFFSETTO:+0000
TZNAME:UTC
DTSTART:20240101T000000
END:STANDARD
END:VTIMEZONE
BEGIN:VEVENT
DTSTART;VALUE=DATE:20250606
DTEND;VALUE=DATE:20250607
DTSTAMP:20260420T072523
CREATED:20250313T073409Z
LAST-MODIFIED:20250523T101040Z
UID:6289-1749168000-1749254399@nat.davchennai.org
SUMMARY:IAT – IISER Aptitude Test [ Application Close ]
DESCRIPTION:Indian Institutes of Science Education and Research
URL:https://nat.davchennai.org/exams/iat-iiser-aptitude-test-application-close/
CATEGORIES:Application Close
ATTACH;FMTTYPE=image/jpeg:https://nat.davchennai.org/wp-content/uploads/nat-exam.jpeg
END:VEVENT
BEGIN:VEVENT
DTSTART;TZID=UTC:20250606T080000
DTEND;TZID=UTC:20250606T170000
DTSTAMP:20260420T072523
CREATED:20250530T061337Z
LAST-MODIFIED:20250530T064707Z
UID:6713-1749196800-1749229200@nat.davchennai.org
SUMMARY:Indian Institute of Science (IISc) Bangalore – Last date to Apply
DESCRIPTION:
URL:https://nat.davchennai.org/exams/indian-institute-of-science-iisc-bangalore-last-date-to-apply/
CATEGORIES:Application Close
END:VEVENT
BEGIN:VEVENT
DTSTART;TZID=UTC:20250609T080000
DTEND;TZID=UTC:20250609T170000
DTSTAMP:20260420T072523
CREATED:20250530T061426Z
LAST-MODIFIED:20250530T064539Z
UID:6716-1749456000-1749488400@nat.davchennai.org
SUMMARY:IIST (Indian Institute of Space Science and Technology)\, Trivandrum – Last date to apply
DESCRIPTION:
URL:https://nat.davchennai.org/exams/iist-indian-institute-of-space-science-and-technology-trivandrum-last-date-to-apply/
CATEGORIES:Application Close
END:VEVENT
BEGIN:VEVENT
DTSTART;TZID=UTC:20250610T080000
DTEND;TZID=UTC:20250610T170000
DTSTAMP:20260420T072523
CREATED:20250530T061225Z
LAST-MODIFIED:20250530T064514Z
UID:6711-1749542400-1749574800@nat.davchennai.org
SUMMARY:IIIT Bangalore – Last Date to Apply
DESCRIPTION:
URL:https://nat.davchennai.org/exams/iiit-bangalore-last-date-for-apply/
CATEGORIES:Application Close
END:VEVENT
BEGIN:VEVENT
DTSTART;TZID=UTC:20250610T080000
DTEND;TZID=UTC:20250610T170000
DTSTAMP:20260420T072523
CREATED:20250530T062815Z
LAST-MODIFIED:20250530T064450Z
UID:6723-1749542400-1749574800@nat.davchennai.org
SUMMARY:BITSAT-2025 Session-2 [ Application close ]
DESCRIPTION:
URL:https://nat.davchennai.org/exams/bitsat-2025-session-2-application-close/
CATEGORIES:Application Close
END:VEVENT
BEGIN:VEVENT
DTSTART;TZID=UTC:20250612T080000
DTEND;TZID=UTC:20250612T170000
DTSTAMP:20260420T072523
CREATED:20250530T062006Z
LAST-MODIFIED:20250530T064355Z
UID:6718-1749715200-1749747600@nat.davchennai.org
SUMMARY:Indian Army - Last Date to Apply
DESCRIPTION:
URL:https://nat.davchennai.org/exams/indian-army-last-date-to-apply/
CATEGORIES:Application Close
END:VEVENT
BEGIN:VEVENT
DTSTART;VALUE=DATE:20250617
DTEND;VALUE=DATE:20250618
DTSTAMP:20260420T072523
CREATED:20250313T065719Z
LAST-MODIFIED:20250530T064255Z
UID:6275-1750118400-1750204799@nat.davchennai.org
SUMMARY:NDA/NA - National Defence Academy and   Naval Academy Examination [ Application Close ]
DESCRIPTION:NDA 2 Exam
URL:https://nat.davchennai.org/exams/nda-na-national-defence-academy-and-naval-academy-examination-application-close/
CATEGORIES:Application Close
END:VEVENT
BEGIN:VEVENT
DTSTART;TZID=UTC:20250617T080000
DTEND;TZID=UTC:20250617T170000
DTSTAMP:20260420T072523
CREATED:20250530T063434Z
LAST-MODIFIED:20250530T064215Z
UID:6729-1750147200-1750179600@nat.davchennai.org
SUMMARY:NATIONAL DEFENCE ACADEMY & NAVAL ACADEMY EXAMINATION (II)\, 2025  [ Application close ]
DESCRIPTION:
URL:https://nat.davchennai.org/exams/national-defence-academy-naval-academy-examination-ii-2025-application-close/
CATEGORIES:Application Close
END:VEVENT
BEGIN:VEVENT
DTSTART;TZID=UTC:20250620T080000
DTEND;TZID=UTC:20250620T170000
DTSTAMP:20260420T072523
CREATED:20250530T062053Z
LAST-MODIFIED:20250530T064153Z
UID:6720-1750406400-1750438800@nat.davchennai.org
SUMMARY:Tamil Nadu Veterinary and Animal Science University [ Application close ]
DESCRIPTION:
URL:https://nat.davchennai.org/exams/tamil-nadu-veterinary-and-animal-science-university-application-closes/
CATEGORIES:Application Close
END:VEVENT
END:VCALENDAR