BEGIN:VCALENDAR
VERSION:2.0
PRODID:-//National Admission Tests - ECPv6.15.20//NONSGML v1.0//EN
CALSCALE:GREGORIAN
METHOD:PUBLISH
X-WR-CALNAME:National Admission Tests
X-ORIGINAL-URL:https://nat.davchennai.org
X-WR-CALDESC:Events for National Admission Tests
REFRESH-INTERVAL;VALUE=DURATION:PT1H
X-Robots-Tag:noindex
X-PUBLISHED-TTL:PT1H
BEGIN:VTIMEZONE
TZID:UTC
BEGIN:STANDARD
TZOFFSETFROM:+0000
TZOFFSETTO:+0000
TZNAME:UTC
DTSTART:20240101T000000
END:STANDARD
END:VTIMEZONE
BEGIN:VEVENT
DTSTART;TZID=UTC:20250612T080000
DTEND;TZID=UTC:20250612T170000
DTSTAMP:20260420T072543
CREATED:20250530T062006Z
LAST-MODIFIED:20250530T064355Z
UID:6718-1749715200-1749747600@nat.davchennai.org
SUMMARY:Indian Army - Last Date to Apply
DESCRIPTION:
URL:https://nat.davchennai.org/exams/indian-army-last-date-to-apply/
CATEGORIES:Application Close
END:VEVENT
END:VCALENDAR