BEGIN:VCALENDAR
VERSION:2.0
PRODID:-//National Admission Tests - ECPv6.15.20//NONSGML v1.0//EN
CALSCALE:GREGORIAN
METHOD:PUBLISH
X-ORIGINAL-URL:https://nat.davchennai.org
X-WR-CALDESC:Events for National Admission Tests
REFRESH-INTERVAL;VALUE=DURATION:PT1H
X-Robots-Tag:noindex
X-PUBLISHED-TTL:PT1H
BEGIN:VTIMEZONE
TZID:UTC
BEGIN:STANDARD
TZOFFSETFROM:+0000
TZOFFSETTO:+0000
TZNAME:UTC
DTSTART:20250101T000000
END:STANDARD
END:VTIMEZONE
BEGIN:VEVENT
DTSTART;VALUE=DATE:20260425
DTEND;VALUE=DATE:20260426
DTSTAMP:20260420T150004
CREATED:20260313T081555Z
LAST-MODIFIED:20260313T085749Z
UID:8804-1777075200-1777161599@nat.davchennai.org
SUMMARY:NCHM JEE 2026 [ Exam Date ]
DESCRIPTION:Reference Link : www.nchm.gov.in/
URL:https://nat.davchennai.org/exams/nchm-jee-2026-exam-date/
CATEGORIES:Application Close
ATTACH;FMTTYPE=image/jpeg:https://nat.davchennai.org/wp-content/uploads/nat-exam.jpeg
END:VEVENT
END:VCALENDAR