BEGIN:VCALENDAR
VERSION:2.0
PRODID:-//National Admission Tests - ECPv6.15.20//NONSGML v1.0//EN
CALSCALE:GREGORIAN
METHOD:PUBLISH
X-WR-CALNAME:National Admission Tests
X-ORIGINAL-URL:https://nat.davchennai.org
X-WR-CALDESC:Events for National Admission Tests
REFRESH-INTERVAL;VALUE=DURATION:PT1H
X-Robots-Tag:noindex
X-PUBLISHED-TTL:PT1H
BEGIN:VTIMEZONE
TZID:UTC
BEGIN:STANDARD
TZOFFSETFROM:+0000
TZOFFSETTO:+0000
TZNAME:UTC
DTSTART:20250101T000000
END:STANDARD
END:VTIMEZONE
BEGIN:VEVENT
DTSTART;VALUE=DATE:20260130
DTEND;VALUE=DATE:20260131
DTSTAMP:20260420T113149
CREATED:20250305T082914Z
LAST-MODIFIED:20251204T112922Z
UID:6215-1769731200-1769817599@nat.davchennai.org
SUMMARY:Joint Entrance Exam 2026 - Session 1[ Exam  End]
DESCRIPTION:
URL:https://nat.davchennai.org/exams/joint-entrance-exam-2026-session-1-end/
CATEGORIES:Exam End
ATTACH;FMTTYPE=image/jpeg:https://nat.davchennai.org/wp-content/uploads/nat-exam.jpeg
END:VEVENT
END:VCALENDAR