BEGIN:VCALENDAR
VERSION:2.0
PRODID:-//National Admission Tests - ECPv6.15.20//NONSGML v1.0//EN
CALSCALE:GREGORIAN
METHOD:PUBLISH
X-WR-CALNAME:National Admission Tests
X-ORIGINAL-URL:https://nat.davchennai.org
X-WR-CALDESC:Events for National Admission Tests
REFRESH-INTERVAL;VALUE=DURATION:PT1H
X-Robots-Tag:noindex
X-PUBLISHED-TTL:PT1H
BEGIN:VTIMEZONE
TZID:UTC
BEGIN:STANDARD
TZOFFSETFROM:+0000
TZOFFSETTO:+0000
TZNAME:UTC
DTSTART:20250101T000000
END:STANDARD
END:VTIMEZONE
BEGIN:VEVENT
DTSTART;VALUE=DATE:20260409
DTEND;VALUE=DATE:20260410
DTSTAMP:20260420T130205
CREATED:20251204T112039Z
LAST-MODIFIED:20260224T101838Z
UID:8344-1775692800-1775779199@nat.davchennai.org
SUMMARY:Joint Entrance Exam 2026 – Session 2  [ Exam  End ]
DESCRIPTION:
URL:https://nat.davchennai.org/exams/joint-entrance-exam-2026-session-2-2/
CATEGORIES:Exam End
ATTACH;FMTTYPE=image/jpeg:https://nat.davchennai.org/wp-content/uploads/nat-exam.jpeg
END:VEVENT
END:VCALENDAR