BEGIN:VCALENDAR
VERSION:2.0
PRODID:-//National Admission Tests - ECPv6.15.20//NONSGML v1.0//EN
CALSCALE:GREGORIAN
METHOD:PUBLISH
X-WR-CALNAME:National Admission Tests
X-ORIGINAL-URL:https://nat.davchennai.org
X-WR-CALDESC:Events for National Admission Tests
REFRESH-INTERVAL;VALUE=DURATION:PT1H
X-Robots-Tag:noindex
X-PUBLISHED-TTL:PT1H
BEGIN:VTIMEZONE
TZID:UTC
BEGIN:STANDARD
TZOFFSETFROM:+0000
TZOFFSETTO:+0000
TZNAME:UTC
DTSTART:20240101T000000
END:STANDARD
END:VTIMEZONE
BEGIN:VEVENT
DTSTART;VALUE=DATE:20250914
DTEND;VALUE=DATE:20250915
DTSTAMP:20260421T085353
CREATED:20250313T065846Z
LAST-MODIFIED:20250530T063731Z
UID:6277-1757808000-1757894399@nat.davchennai.org
SUMMARY:NDA/NA - National Defence Academy and   Naval Academy Examination [ Exam ]
DESCRIPTION:
URL:https://nat.davchennai.org/exams/nda-na-national-defence-academy-and-naval-academy-examination-exam/
CATEGORIES:Exam
END:VEVENT
END:VCALENDAR