BEGIN:VCALENDAR
VERSION:2.0
PRODID:-//National Admission Tests - ECPv6.15.20//NONSGML v1.0//EN
CALSCALE:GREGORIAN
METHOD:PUBLISH
X-ORIGINAL-URL:https://nat.davchennai.org
X-WR-CALDESC:Events for National Admission Tests
REFRESH-INTERVAL;VALUE=DURATION:PT1H
X-Robots-Tag:noindex
X-PUBLISHED-TTL:PT1H
BEGIN:VTIMEZONE
TZID:UTC
BEGIN:STANDARD
TZOFFSETFROM:+0000
TZOFFSETTO:+0000
TZNAME:UTC
DTSTART:20240101T000000
END:STANDARD
END:VTIMEZONE
BEGIN:VEVENT
DTSTART;VALUE=DATE:20250622
DTEND;VALUE=DATE:20250623
DTSTAMP:20260422T011739
CREATED:20250313T103025Z
LAST-MODIFIED:20250530T064125Z
UID:6342-1750550400-1750636799@nat.davchennai.org
SUMMARY:NEST – National Entrance Screening Test [ Exam ]
DESCRIPTION:
URL:https://nat.davchennai.org/exams/nest-national-entrance-screening-test-exam/
CATEGORIES:Exam
END:VEVENT
BEGIN:VEVENT
DTSTART;VALUE=DATE:20250622
DTEND;VALUE=DATE:20250627
DTSTAMP:20260422T011739
CREATED:20250313T105334Z
LAST-MODIFIED:20250530T063934Z
UID:6350-1750550400-1750982399@nat.davchennai.org
SUMMARY:BITSAT - Birla Institute of Technology and Science Admission Test [ Exam ]
DESCRIPTION:Session-2
URL:https://nat.davchennai.org/exams/bitsat-birla-institute-of-technology-and-science-admission-test-exam-2/
CATEGORIES:Exam
END:VEVENT
BEGIN:VEVENT
DTSTART;TZID=UTC:20250622T080000
DTEND;TZID=UTC:20250626T170000
DTSTAMP:20260422T011739
CREATED:20250530T063306Z
LAST-MODIFIED:20250530T064038Z
UID:6725-1750579200-1750957200@nat.davchennai.org
SUMMARY:BITSAT-2025 Online Test Session-2
DESCRIPTION:
URL:https://nat.davchennai.org/exams/bitsat-2025-online-test-session-2/
CATEGORIES:Exam
END:VEVENT
END:VCALENDAR