BEGIN:VCALENDAR
VERSION:2.0
PRODID:-//National Admission Tests - ECPv6.15.20//NONSGML v1.0//EN
CALSCALE:GREGORIAN
METHOD:PUBLISH
X-ORIGINAL-URL:https://nat.davchennai.org
X-WR-CALDESC:Events for National Admission Tests
REFRESH-INTERVAL;VALUE=DURATION:PT1H
X-Robots-Tag:noindex
X-PUBLISHED-TTL:PT1H
BEGIN:VTIMEZONE
TZID:UTC
BEGIN:STANDARD
TZOFFSETFROM:+0000
TZOFFSETTO:+0000
TZNAME:UTC
DTSTART:20250101T000000
END:STANDARD
END:VTIMEZONE
BEGIN:VEVENT
DTSTART;VALUE=DATE:20260330
DTEND;VALUE=DATE:20260401
DTSTAMP:20260420T084544
CREATED:20260313T082725Z
LAST-MODIFIED:20260313T082725Z
UID:8816-1774828800-1775001599@nat.davchennai.org
SUMMARY:Indian Air Force – Agniveer Vayu Intake 01/2027 [ Exam ]
DESCRIPTION:Reference Link :  https://iafrecruitment.edcil.co.in/agniveervayu/
URL:https://nat.davchennai.org/exams/indian-air-force-agniveer-vayu-intake-01-2027-exam/
CATEGORIES:Exam
ATTACH;FMTTYPE=image/jpeg:https://nat.davchennai.org/wp-content/uploads/nat-exam.jpeg
END:VEVENT
END:VCALENDAR