BEGIN:VCALENDAR
VERSION:2.0
PRODID:-//National Admission Tests - ECPv6.15.20//NONSGML v1.0//EN
CALSCALE:GREGORIAN
METHOD:PUBLISH
X-ORIGINAL-URL:https://nat.davchennai.org
X-WR-CALDESC:Events for National Admission Tests
REFRESH-INTERVAL;VALUE=DURATION:PT1H
X-Robots-Tag:noindex
X-PUBLISHED-TTL:PT1H
BEGIN:VTIMEZONE
TZID:UTC
BEGIN:STANDARD
TZOFFSETFROM:+0000
TZOFFSETTO:+0000
TZNAME:UTC
DTSTART:20240101T000000
END:STANDARD
END:VTIMEZONE
BEGIN:VEVENT
DTSTART;VALUE=DATE:20250603
DTEND;VALUE=DATE:20250604
DTSTAMP:20260423T032158
CREATED:20250305T092334Z
LAST-MODIFIED:20250530T065126Z
UID:6240-1748908800-1748995199@nat.davchennai.org
SUMMARY:JEE (Advanced) - Tentative Start of Joint Seat Allocation (JoSAA) [ Process ]
DESCRIPTION:
URL:https://nat.davchennai.org/exams/jee-advanced-tentative-start-of-joint-seat-allocation-josaa-process/
CATEGORIES:Others
END:VEVENT
END:VCALENDAR